Workbook
Name D_Fraise: Calcul!$E$22
Name D_Outil: Données!$E$2:$E$18
Name Dents: Données!$F$2:$F$5
Name Fraise: Données!$E$2:$E$16
Name Matière: Données!$G$2:$G$16
Name Outil: Données!$E$2:$E$18
Name Outil: Données!$E$2:$E$18
Name TypOp: Données!$A$2:$A$5
Name TypOut: Données!$C$2:$C$4

Sheet Calcul
E2: Calcul des paramètres de coupe pour les outils HSS
A4: Max Broche | D4: MDF | E4: CTP Agglo | F4: Bois dur | G4: HPL Dépron | H4: PVC | I4: PMMA PC POM | J4: Epoxy Carb | K4: Cuivre | L4: Bronze laiton | M4: Al Aluminium | O4: MDF | P4: Medium Density Fiberboard
A5: 14000 | C5: Coupe diamant | O5: HPL | P5: Hight Pressure Laminate
C6: 1 dent | O6: PVC | P6: PolyChlorure de Vinyl
C7: 1 dent alu | O7: PMMA | P7: Plexiglass
C8: 1 dent coupe G | O8: PC | P8: PolyCarbonate
C9: 2 dents hélicoïdales | O9: POM | P9: Delrin
C10: 2 dents droites | O10: Epoxy | P10: Verre/Epoxy
C11: 2 dents hémisphériques | O11: Carb | P11: Fibre de carbone
C12: 2 dents spécial alu | O12: PA | P12: Polyamide, nylon
C13: 3 dents spécial alu | O13: PTFE | P13: Téflon
C14: Javelot | O14: PEHD | P14: Polyéthylène Haute Densité
C15: Javelot alu | O15: ABS | P15: Plastique pour moulage par injection
C16: Carving
C19: Sélection des paramètres | K19: Résultats exprimés en mm/mn | O19: Résultats exprimés en mm/s
K20: Paramètres de coupe théoriques | O20: Paramètres de coupe théoriques
C21: Opération | D21: Outil | E21: D Outil | F21: Nb Dents | G21: Matière | I21: ap possible | K21: S en tr/mn | L21: F (sur X et Y) | M21: F (sur Z) | O21: S en tr/s | P21: F (sur X et Y) | Q21: F (sur Z)
C22: Rainurage | D22: Diamant | E22: 5 | F22: 2 | G22: Dépron | I22: =IF((Données!D20=2),0,Données!K20) -> 33 | K22: =(1000*Données!I20)/(3.14*E22) -> 7324.8408 | L22: =IF((D22="Diamant"),K22*4*Données!C23,K22*F22*Données!C23) -> 2373.2484 | M22: =(Calcul!L22/Données!F23) -> 791.0828 | O22: =K22/60 -> 122.08068 | P22: =L22/60 -> 39.55414 | Q22: =M22/60 -> 13.184713
K23: Paramètres corrigés suivant broche | O23: Paramètres corrigés suivant broche
C24: * Une lubrification au pinceau facilite le glissement du copeau sur la face | K24: S | L24: F (sur X et Y) | M24: F (sur Z) | O24: S en tr/s | P24: F (sur X et Y) | Q24: F (suivant Z
C25: de coupe. Huile pour l'acier, Pétrole lampant pour alu et ses alliages | K25: =IF(K22<A5,K22,A5) -> 7324.8408 | L25: =IF((D22="Diamant"),K25*4*Données!C23,K25*F22*Données!C23) -> 2373.2484 | M25: =(Calcul!L25/Données!F23) -> 791.0828 | O25: =K25/60 -> 122.08068 | P25: =L25/60 -> 39.55414 | Q25: =M25/60 -> 13.184713
A27: Contournage | C27: Rainurage | E27: Surfaçage | I27: Modes d'action de la fraise | O27: Choix du Nombre de dents
C35: ae : Fz= avance par dent
C36: ap : Profondeur de passe
A37: Travail en plongée
A38: Oui | B38: NON

Sheet Données
A1: Opération | B1: Choix Op | C1: Outil | D1: Choix Out | E1: D Outil | F1: Nb Dents | G1: Matière | H1: Vc | I1: Sélect. VC | J1: ap | K1: ap Sel | L1: Fxy Métaux | M1: Fxy Mtx Sel | N1: Fxy MDF | O1: FXy MDF Sel | P1: Fxy CP | Q1: Fxy cp SEL | R1: Fxy POM | S1: Fxy POM sel | T1: Fxy PVC | U1: Fxy PVC sel | V1: Fxy Dépron | W1: Fxy Dep Sel | X1: Fxy Epoxy | Y1: Fxy Epox Sel
A2: Surfaçage | B2: =IF(Calcul!C22=Données!A2,1,0) -> 0 | C2: Diamant | D2: =IF(Calcul!D22=Données!C2,1,0) -> 1 | E2: 1 | F2: 1 | G2: Balsa | H2: 450 | I2: =IF(Calcul!G22=Données!G2,Données!H2,0) -> 0 | J2: 10 | K2: =IF((Calcul!G22=Données!G2), Données!J2*Données!A23, 0) -> 0 | L2: 0.002 | M2: =IF(Calcul!E22=Données!E2,Données!L2,0) -> 0 | N2: 0.006 | O2: =IF(Calcul!E22=Données!E2,Données!N2,0) -> 0 | P2: 0.01 | Q2: =IF(Calcul!E22=Données!E2,Données!P2,0) -> 0 | R2: 0.01 | S2: =IF(Calcul!E22=Données!E2,Données!R2,0) -> 0 | T2: 0.004 | U2: =IF(Calcul!E22=Données!E2,Données!T2,0) -> 0 | V2: 0.027 | W2: =IF(Calcul!E22=Données!E2,Données!V2,0) -> 0 | X2: 0.005 | Y2: =IF(Calcul!E22=Données!E2,Données!X2,0) -> 0
A3: Perçage | B3: =IF(Calcul!C22=Données!A3,2,0) -> 0 | C3: Foret | D3: =IF(Calcul!D22=Données!C3,2,0) -> 0 | E3: 1.5 | F3: 2 | G3: Contreplaqué | H3: 350 | I3: =IF(Calcul!G22=Données!G3,Données!H3,0) -> 0 | J3: 8 | K3: =IF(Calcul!G22=Données!G3, Données!J3*Données!A23, 0) -> 0 | L3: 0.0025 | M3: =IF(Calcul!E22=Données!E3,Données!L3,0) -> 0 | N3: 0.012 | O3: =IF(Calcul!E22=Données!E3,Données!N3,0) -> 0 | P3: 0.015 | Q3: =IF(Calcul!E22=Données!E3,Données!P3,0) -> 0 | R3: 0.013 | S3: =IF(Calcul!E22=Données!E3,Données!R3,0) -> 0 | T3: 0.006 | U3: =IF(Calcul!E22=Données!E3,Données!T3,0) -> 0 | V3: 0.036 | W3: =IF(Calcul!E22=Données!E3,Données!V3,0) -> 0 | X3: 0.006 | Y3: =IF(Calcul!E22=Données!E3,Données!X3,0) -> 0
A4: Rainurage | B4: =IF(Calcul!C22=Données!A4,3,0) -> 3 | C4: Fraise | D4: =IF(Calcul!D22=Données!C4,3,0) -> 0 | E4: 2 | F4: 3 | G4: MDF | H4: 400 | I4: =IF(Calcul!G22=Données!G4, Données!H4,0) -> 0 | J4: 6 | K4: =IF(Calcul!G22=Données!G4, Données!J4*Données!A23, 0) -> 0 | L4: 0.004 | M4: =IF(Calcul!E22=Données!E4,Données!L4,0) -> 0 | N4: 0.022 | O4: =IF(Calcul!E22=Données!E4,Données!N4,0) -> 0 | P4: 0.0192 | Q4: =IF(Calcul!E22=Données!E4,Données!P4,0) -> 0 | R4: 0.016 | S4: =IF(Calcul!E22=Données!E4,Données!R4,0) -> 0 | T4: 0.008 | U4: =IF(Calcul!E22=Données!E4,Données!T4,0) -> 0 | V4: 0.045 | W4: =IF(Calcul!E22=Données!E4,Données!V4,0) -> 0 | X4: 0.008 | Y4: =IF(Calcul!E22=Données!E4,Données!X4,0) -> 0
A5: Contournage | B5: =IF(Calcul!C22=Données!A5,4,0) -> 0 | E5: 2.5 | F5: 4 | G5: Acier HRc<30 * | H5: 25 | I5: =IF(Calcul!G22=Données!G5,Données!H5,0) -> 0 | J5: 1 | K5: =IF(Calcul!G22=Données!G5, Données!J5*Données!A23, 0) -> 0 | L5: 0.006 | M5: =IF(Calcul!E22=Données!E5,Données!L5,0) -> 0 | N5: 0.027 | O5: =IF(Calcul!E22=Données!E5,Données!N5,0) -> 0 | P5: 0.0242 | Q5: =IF(Calcul!E22=Données!E5,Données!P5,0) -> 0 | R5: 0.0172 | S5: =IF(Calcul!E22=Données!E5,Données!R5,0) -> 0 | T5: 0.011 | U5: =IF(Calcul!E22=Données!E5,Données!T5,0) -> 0 | V5: 0.054 | W5: =IF(Calcul!E22=Données!E5,Données!V5,0) -> 0 | X5: 0.01 | Y5: =IF(Calcul!E22=Données!E5,Données!X5,0) -> 0
E6: 3 | G6: Bronze, Laiton | H6: 60 | I6: =IF(Calcul!G22=Données!G6,Données!H6,0) -> 0 | J6: 1.05 | K6: =IF(Calcul!G22=Données!G6, Données!J6*Données!A23, 0) -> 0 | L6: 0.008 | M6: =IF(Calcul!E22=Données!E6,Données!L6,0) -> 0 | N6: 0.0331 | O6: =IF(Calcul!E22=Données!E6,Données!N6,0) -> 0 | P6: 0.0288 | Q6: =IF(Calcul!E22=Données!E6,Données!P6,0) -> 0 | R6: 0.0184 | S6: =IF(Calcul!E22=Données!E6,Données!R6,0) -> 0 | T6: 0.015 | U6: =IF(Calcul!E22=Données!E6,Données!T6,0) -> 0 | V6: 0.063 | W6: =IF(Calcul!E22=Données!E6,Données!V6,0) -> 0 | X6: 0.012 | Y6: =IF(Calcul!E22=Données!E6,Données!X6,0) -> 0
E7: 4 | G7: Alu <10% Si * | H7: 70 | I7: =IF(Calcul!G22=Données!G7,Données!H7,0) -> 0 | J7: 1 | K7: =IF(Calcul!G22=Données!G7, Données!J7*Données!A23, 0) -> 0 | L7: 0.013 | M7: =IF(Calcul!E22=Données!E7,Données!L7,0) -> 0 | N7: 0.0441 | O7: =IF(Calcul!E22=Données!E7,Données!N7,0) -> 0 | P7: 0.0383 | Q7: =IF(Calcul!E22=Données!E7,Données!P7,0) -> 0 | R7: 0.024 | S7: =IF(Calcul!E22=Données!E7,Données!R7,0) -> 0 | T7: 0.02 | U7: =IF(Calcul!E22=Données!E7,Données!T7,0) -> 0 | V7: 0.072 | W7: =IF(Calcul!E22=Données!E7,Données!V7,0) -> 0 | X7: 0.015 | Y7: =IF(Calcul!E22=Données!E7,Données!X7,0) -> 0
E8: 5 | G8: Alu >10% Si * | H8: 50 | I8: =IF(Calcul!G22=Données!G8,Données!H8,0) -> 0 | J8: 0.55 | K8: =IF(Calcul!G22=Données!G8, Données!J8*Données!A23, 0) -> 0 | L8: 0.018 | M8: =IF(Calcul!E22=Données!E8,Données!L8,0) -> 0.018 | N8: 0.0485 | O8: =IF(Calcul!E22=Données!E8,Données!N8,0) -> 0.0485 | P8: 0.042 | Q8: =IF(Calcul!E22=Données!E8,Données!P8,0) -> 0.042 | R8: 0.032 | S8: =IF(Calcul!E22=Données!E8,Données!R8,0) -> 0.032 | T8: 0.025 | U8: =IF(Calcul!E22=Données!E8,Données!T8,0) -> 0.025 | V8: 0.081 | W8: =IF(Calcul!E22=Données!E8,Données!V8,0) -> 0.081 | X8: 0.019 | Y8: =IF(Calcul!E22=Données!E8,Données!X8,0) -> 0.019
E9: 6 | G9: PVC | H9: 110 | I9: =IF(Calcul!G22=Données!G9,Données!H9,0) -> 0 | J9: 6 | K9: =IF(Calcul!G22=Données!G9, Données!J9*Données!A23, 0) -> 0 | L9: 0.024 | M9: =IF(Calcul!E22=Données!E9,Données!L9,0) -> 0 | N9: 0.0529 | O9: =IF(Calcul!E22=Données!E9,Données!N9,0) -> 0 | P9: 0.046 | Q9: =IF(Calcul!E22=Données!E9,Données!P9,0) -> 0 | R9: 0.04 | S9: =IF(Calcul!E22=Données!E9,Données!R9,0) -> 0 | T9: 0.035 | U9: =IF(Calcul!E22=Données!E9,Données!T9,0) -> 0 | V9: 0.09 | W9: =IF(Calcul!E22=Données!E9,Données!V9,0) -> 0 | X9: 0.022 | Y9: =IF(Calcul!E22=Données!E9,Données!X9,0) -> 0
E10: 8 | G10: POM, PPMA, PC | H10: 90 | I10: =IF(Calcul!G22=Données!G10,Données!H10,0) -> 0 | J10: 3 | K10: =IF(Calcul!G22=Données!G10, Données!J10*Données!A23, 0) -> 0 | L10: 0.032 | M10: =IF(Calcul!E22=Données!E10,Données!L10,0) -> 0 | N10: 0.0705 | O10: =IF(Calcul!E22=Données!E10,Données!N10,0) -> 0 | P10: 0.0613 | Q10: =IF(Calcul!E22=Données!E10,Données!P10,0) -> 0 | R10: 0.056 | S10: =IF(Calcul!E22=Données!E10,Données!R10,0) -> 0 | T10: 0.04 | U10: =IF(Calcul!E22=Données!E10,Données!T10,0) -> 0
E11: 10 | G11: Parquet Stratifié | H11: 100 | I11: =IF(Calcul!G22=Données!G11,Données!H11,0) -> 0 | J11: 3.2 | K11: =IF(Calcul!G22=Données!G11, Données!J11*Données!A23, 0) -> 0 | L11: 0.04 | M11: =IF(Calcul!E22=Données!E11,Données!L11,0) -> 0 | N11: 0.092 | O11: =IF(Calcul!E22=Données!E11,Données!N11,0) -> 0 | P11: 0.08 | Q11: =IF(Calcul!E22=Données!E11,Données!P11,0) -> 0 | R11: 0.072 | S11: =IF(Calcul!E22=Données!E11,Données!R11,0) -> 0 | T11: 0.05 | U11: =IF(Calcul!E22=Données!E11,Données!T11,0) -> 0
E12: 12 | G12: Dépron | H12: 115 | I12: =IF(Calcul!G22=Données!G12,Données!H12,0) -> 115 | J12: 24 | K12: =IF(Calcul!G22=Données!G12, Données!J12*Données!A23, 0) -> 33 | L12: 0.045 | M12: =IF(Calcul!E22=Données!E12,Données!L12,0) -> 0 | N12: 0.101 | O12: =IF(Calcul!E22=Données!E12,Données!N12,0) -> 0 | P12: 0.091 | Q12: =IF(Calcul!E22=Données!E12,Données!P12,0) -> 0 | R12: 0.085 | S12: =IF(Calcul!E22=Données!E12,Données!R12,0) -> 0 | T12: 0.06 | U12: =IF(Calcul!E22=Données!E12,Données!T12,0) -> 0
E13: 16 | G13: Epoxy | H13: 22 | I13: =IF(Calcul!G22=Données!G13,Données!H13,0) -> 0 | J13: 2 | K13: =IF(Calcul!G22=Données!G13, Données!J13*Données!A23, 0) -> 0 | L13: 0.05 | M13: =IF(Calcul!E22=Données!E13,Données!L13,0) -> 0 | N13: 0.125 | O13: =IF(Calcul!E22=Données!E13,Données!N13,0) -> 0 | P13: 0.115 | Q13: =IF(Calcul!E22=Données!E13,Données!P13,0) -> 0 | R13: 0.101 | S13: =IF(Calcul!E22=Données!E13,Données!R13,0) -> 0 | T13: 0.08 | U13: =IF(Calcul!E22=Données!E13,Données!T13,0) -> 0
E14: 18 | G14: Bois dur | H14: 300 | I14: =IF(Calcul!G22=Données!G14,Données!H14,0) -> 0 | J14: 6 | K14: =IF(Calcul!G22=Données!G14, Données!J14*Données!A23, 0) -> 0 | L14: 0.053 | M14: =IF(Calcul!E22=Données!E14,Données!L14,0) -> 0 | N14: 0.201 | O14: =IF(Calcul!E22=Données!E14,Données!N14,0) -> 0 | P14: 0.19 | Q14: =IF(Calcul!E22=Données!E14,Données!P14,0) -> 0 | R14: 0.152 | S14: =IF(Calcul!E22=Données!E14,Données!R14,0) -> 0 | T14: 0.1 | U14: =IF(Calcul!E224=Données!E14,Données!T14,0) -> 0
E15: 20 | G15: Cuivre | H15: 160 | I15: =IF(Calcul!G22=Données!G15,Données!H15,0) -> 0 | J15: 1.3 | K15: =IF(Calcul!G22=Données!G15, Données!J15*Données!A23, 0) -> 0 | L15: 0.057 | M15: =IF(Calcul!E22=Données!E15,Données!L15,0) -> 0 | N15: 0.25 | O15: =IF(Calcul!E22=Données!E15,Données!N15,0) -> 0 | P15: 0.21 | Q15: =IF(Calcul!E22=Données!E15,Données!P15,0) -> 0 | R15: 0.19 | S15: =IF(Calcul!E22=Données!E15,Données!R15,0) -> 0 | T15: 0.2 | U15: =IF(Calcul!E22=Données!E15,Données!T15,0) -> 0
E16: 25 | L16: 0.06 | M16: =IF(Calcul!E22=Données!E16,Données!L16,0) -> 0 | N16: 0.3 | O16: =IF(Calcul!E22=Données!E16,Données!N16,0) -> 0 | P16: 0.25 | Q16: =IF(Calcul!E22=Données!E16,Données!P16,0) -> 0 | R16: 0.23 | S16: =IF(Calcul!E22=Données!E16,Données!R16,0) -> 0 | T16: 0.32 | U16: =IF(Calcul!E22=Données!E16,Données!T16,0) -> 0
E17: 32 | L17: 0.07 | M17: =IF(Calcul!E22=Données!E17,Données!L17,0) -> 0 | N17: 0.4 | O17: =IF(Calcul!E22=Données!E17,Données!N17,0) -> 0 | P17: 0.35 | Q17: =IF(Calcul!E22=Données!E17,Données!P17,0) -> 0 | R17: 0.3 | S17: =IF(Calcul!E22=Données!E17,Données!R17,0) -> 0 | T17: 0.45 | U17: =IF(Calcul!E22=Données!E17,Données!T17,0) -> 0
E18: 40 | L18: 0.08 | M18: =IF(Calcul!E22=Données!E18,Données!L18,0) -> 0 | N18: 0.5 | O18: =IF(Calcul!E22=Données!E18,Données!N18,0) -> 0 | P18: 0.4 | Q18: =IF(Calcul!E22=Données!E18,Données!P18,0) -> 0 | R18: 0.32 | S18: =IF(Calcul!E22=Données!E18,Données!R18,0) -> 0 | T18: 0.52 | U18: =IF(Calcul!E22=Données!E18,Données!T18,0) -> 0
A20: Chx Op | B20: =SUM(B2:B16) -> 3 | C20: Chx Outil | D20: =SUM(D2:D16) -> 1 | H20: Chx Vc | I20: =SUM(I2:I16) -> 115 | J20: Chx ap | K20: =SUM(K2:K18) -> 33 | L20: Chx Fz | M20: =SUM(M2:M18) -> 0.018 | O20: =SUM(O2:O18) -> 0.0485 | Q20: =SUM(Q2:Q18) -> 0.042 | S20: =SUM(S2:S18) -> 0.032 | U20: =SUM(U2:U18) -> 0.025 | W20: =SUM(W2:W9) -> 0.081 | Y20: =SUM(Y2:Y9) -> 0.019
A22: Cor Ap/D/Op | B22: =IF((Données!B20=1)*AND(Calcul!E22<3),0.5*0.15*Calcul!E22,0) -> 0 | C22: Cor F/Outil | D22: =IF((Données!D20=1)*AND(Calcul!G22=Données!G14),Données!L23,0) -> 0 | F22: Cor Fz/Mat | G22: Coef Diviseur | K22: =IF(OR((Calcul!C24=Données!A6),(Calcul!C24=Données!A7)),SUM(K4:K18),Données!B12) -> 0 | L22: Fz retenu | M22: =IF(Calcul!G22=Données!G2,Données!Q20,0) -> 0
A23: =SUM(B22:B29) -> 1.375 | B23: =IF((Données!B20=1)*AND(Calcul!E22>=3),0.5*0.25*Calcul!E22,0) -> 0 | C23: =SUM(D22:D28) -> 0.081 | D23: =IF(D20=2,L23/0.866,0) -> 0 | F23: =SUM(G22:G36) -> 3 | G23: =IF(Calcul!G22=Données!G2,4,0) -> 0 | L23: =SUM(M22:M35) -> 0.081 | M23: =IF(Calcul!G22=Données!G3,Données!Q20,0) -> 0
B24: =IF(Données!B20=2,0,0) -> 0 | D24: =IF(D20=3,L23,0) -> 0 | G24: =IF(Calcul!G22=Données!G3,4,0) -> 0 | M24: =IF(Calcul!G22=Données!G4,Données!O20,0) -> 0
B25: =IF((Données!B20=3)*AND(Calcul!E22<3),1.1*0.15*Calcul!E22,0) -> 0 | D25: =IF(D20=4,L23,0) -> 0 | G25: =IF(Calcul!G22=Données!G4,4,0) -> 0 | M25: =IF(Calcul!G22=Données!G5,Données!M20,0) -> 0
B26: =IF((Données!B20=3)*AND(Calcul!E22>=3),1.1*0.25*Calcul!E22,0) -> 1.375 | D26: =IF((Données!D20=1)*AND(Calcul!G22=Données!G3),Données!L23,0) -> 0 | G26: =IF(Calcul!G22=Données!G5,5,0) -> 0 | M26: =IF(Calcul!G22=Données!G6,Données!M20,0) -> 0
B27: =IF((Données!B20=4)*AND(Calcul!E22>=3),1.5*0.25*Calcul!E22,0) -> 0 | D27: =IF((Données!D20=1)*AND(Calcul!G22=Données!G12),Données!L23,0) -> 0.081 | G27: =IF(Calcul!G22=Données!G6,5,0) -> 0 | M27: =IF(Calcul!G22=Données!G7,Données!M20,0) -> 0
B28: =IF((Données!B20=4)*AND(Calcul!E22<3),1.5*0.15*Calcul!E22,0) -> 0 | D28: =IF((Données!D20=1)*AND(Calcul!G22=Données!G13),Données!L23,0) -> 0 | G28: =IF(Calcul!G22=Données!G7,5,0) -> 0 | M28: =IF(Calcul!G22=Données!G8,Données!M20,0) -> 0
G29: =IF(Calcul!G22=Données!G8,5,0) -> 0 | M29: =IF(Calcul!G22=Données!G9,Données!U20,0) -> 0
G30: =IF(Calcul!G22=Données!G9,4,0) -> 0 | M30: =IF(Calcul!G22=Données!G10,Données!S20,0) -> 0
G31: =IF(Calcul!G22=Données!G10,5,0) -> 0 | M31: =IF(Calcul!G22=Données!G11,Données!M20,0) -> 0
G32: =IF(Calcul!G22=Données!G11,5,0) -> 0 | M32: =IF(Calcul!G22=Données!G12,Données!W20,0) -> 0.081
G33: =IF(Calcul!G22=Données!G12,3,0) -> 3 | M33: =IF(Calcul!G22=Données!G13,Données!Y20,0) -> 0
G34: =IF(Calcul!G22=Données!G13,5,0) -> 0 | M34: =IF(Calcul!G22=Données!G14,Données!Q20,0) -> 0
G35: =IF(Calcul!G22=Données!G14,6,0) -> 0 | M35: =IF(Calcul!G22=Données!G15,Données!M20,0) -> 0
G36: =IF(Calcul!G22=Données!G15,4,0) -> 0

Sheet A propos
B2: Version 1,0,1
B3: BJP 07/2022
B6: La feuille de calcul intègre :
B8: * une table de vitesses de coupe pour 14 matériaux génériques
B10: * sept tables d'avances par dent/et par diamètre d'outil correspondant aux matières habituellement travaillées dans notre hobby.
B11: La plupart de ces tables sont issues, soit de fabricants de fraises, soit de professionnels spécialisés dans la mise en forme de matériaux composites.
B12: La table relative au Dépron a été extrapolée à partir de données publiées par Armand ; on verra à l'usage les améliorations à apporter.
B14: * une liste d'opérations élémentaires de fraisage (surfaçage, perçage, rainurage, contournage) qui couvre la quasi totalité de nos usinages.
B15: Attention, une opération de découpe (contournage) qui engage la fraise sur son diamètre doit être assimilée à un rainurage.
B17: * Une liste d'outil couvrant la plage de diamètre 1 à 40 mm.
B19: * trois types d'outil. (taille diamant, forèt, fraise)
B21: * une sélection du nombre de dents (entre 1 et 4).
... B26: Petit rappel : S (vitesse de rotation de la broche, donc de l'outil) dépend de la matière à usiner et de l'outil utilisé.
D27: formule : S = (1000*Vc)/(3.14*D) ou Vc = Vitesse de coupe D = Diamètre fraise
C29: F (Vitesse d'avance de la fraise en m/mn) ; elle dépend de S, de ae (avance par dent), de z (Nombre de dents de la fraise)
D30: formule : F = S*ae*z ou S = Vitesse de rotation de la broche ae = avance par dent de la fraise z = Nombre de dents de la fraise
C32: ap (Profondeur de passe) ; la profondeur de passe conjuguée à l'avance par dent détermine la section du copeau (ae*ap). La section du copeau doit
C33: être compatible avec la puissance de la broche et surtout la résistance mécanique de la fraise. La fraise en action, sous l'action de l'effort de coupe
C34: et de l'effort d'avance est soumise à une contrainte de flexion rotative qui doit rester dans le domaine élastique.
C35: ça explique pourquoi ap varie suivant la matière usinée et le diamètre de l'outil.
B38: Mode d'emploi : Il suffit de choisir ce que l'on veut faire dand les listes déroulantes ; les paramètres sont immédiatement mis à jour.
B40: Pour le dépron et l'epoxy, seule la plage d'outils entre 1 et 6 est couverte.
B41: Il n'y a pas de sélection du nombre de dents pour les fraises à taille diamant qui s'apparentent plutôt à des limes rotatives (cellule rouge)
B42: Pour les fraises à taille diamant, les paramètres de coupe affichent 0 si le risque de rupture de l'outil est garanti par le choix d'un matériau incompatible (référence au tableau guide)
